Workbook

Sheet 法定外工事【正】両面印刷
K2: 法定外公共物工事施工許可申請書
AU4: 第 | BC4: 号
AO6: 令和 | AU6: 年 | AY6: 月 | BC6: 日
C8: 道路管理者
D10: 福井市長 西行 茂 | Q10: 殿
AB12: 住所
AB15: 氏名
AB18: ＴＥＬ
C21: 福井市法定外公共物管理条例第４条第２項の規定により、許可を申請します。
C23: 施工目的
C26: 施工場所 | K26: 路線名 | AI26: 歩道・車道・その他（ ）
K29: 場所 | P29: 福井市
C32: 工事概要 | K32: 工事種別 | AI32: 施工数量
C42: 工事の期間 | J42: 令和 | P42: 年 | U42: 月 | Z42: 日から | AM42: 日間
J44: 令和 | P44: 年 | U44: 月 | Z44: 日まで
C46: 施工方法 | K46: 直営・請負
K48: 施工業者 住 所
K50: 業者名
K52: 担当者
K54: 連絡先
C56: 添付書類 | K56: 位置図、現況図、計画図、構造図、交通規制図、工事仕様書、公図（写）、
K58: 求積表、誓約書、同意書、現況写真、その他（ ）
C60: 備考
C66: 工事期間 | U66: 許可年月日・番号 | AN66: 工事竣工検査
B68: 令和 | H68: 年 | M68: 月 | R68: 日 | U68: 福井市指令監第 | AK68: 号 | AN68: 令和 | AT68: 年 | AY68: 月 | BD68: 日
B70: 令和 | H70: 年 | M70: 月 | R70: 日 | U70: 令和 | AA70: 年 | AF70: 月 | AK70: 日 | AN70: （合・否）
B72: 上記申請について、別紙条件を附して許可してよろしいか伺います。
B74: 課長 | H74: 副課長 | N74: 課長補佐 | U74: 課員 | AT74: 係
AZ76: 監理課
AZ81: 道路課
C142: 記載要領
C145: 1 | F145: 申請者が法人である場合には、「住所」の欄には主たる事務所の所在地、「氏名」の欄には、名称及び代表者の氏名を記載すること。「担当者」の欄に所属・氏名を記載すること。
C150: 2 | F150: 「工事概要」の欄には、「工事種別」として歩道切下げ、植樹帯移設等の工事の内容を、「施工数量」として延長、面積等の施工規模を記入すること。
C155: 3 | F155: 「場所」の欄には、地番まで記載すること。施工箇所が２以上の地番にわたる場合には、起点と終点を記載すること。「車道・歩道・その他」については、該当するものを○で囲むこと。
C160: 4 | F160: 「工事の期間」の欄には、工事実施から完了までの期間を記載すること。仮移設等を含む場合は復旧までの期間を含めて記載すること。
C165: 5 | F165: 「施工方法」欄の施工業者については、未定の場合にはその旨記載すること。また、その時には工事着手までに報告すること。
C170: 6 | F170: 「添付書類」の欄には、添付した書類に○を付し、その他必要な書類を添付した場合には、その書類名を（ ）内に記載すること。
E175: ・ | F175: 位置図は1/50,000程度の平面図を、現況図・計画図はそれぞれ現況及び完成後の平面図（1/1,000程度）及び縦横断面図を指し、誓約書とは施工後に施工箇所を道路管理者に引き継ぐ旨を約した書面を指し、同意書とは水路管理者、隣地所有者等の関係者の同意を証する書面を指す。
C182: 7 | F182: その他必要な事項については、「備考」欄に記載する。（例）概算工事費、道路の現況、道路区域の変更の有無等

Sheet 法定外工事【副】両面印刷
K2: 法定外公共物工事施工許可書
AB12: 住所 | AH12: =IF(法定外工事【正】両面印刷!AH12=0, "", 法定外工事【正】両面印刷!AH12)
AB15: 氏名 | AH15: =IF(法定外工事【正】両面印刷!AH15=0, "", 法定外工事【正】両面印刷!AH15)
AB18: ＴＥＬ | AH18: =IF(法定外工事【正】両面印刷!AH18=0, "", 法定外工事【正】両面印刷!AH18)
C23: 施工目的 | K23: =IF(法定外工事【正】両面印刷!K23=0, "", 法定外工事【正】両面印刷!K23)
C26: 施工場所 | K26: 路線名 | P26: =IF(法定外工事【正】両面印刷!P26=0, "", 法定外工事【正】両面印刷!P26) | AI26: 歩道・車道・その他（ ）
K29: 場所 | P29: 福井市 | U29: =IF(法定外工事【正】両面印刷!U29=0, "", 法定外工事【正】両面印刷!U29)
C32: 工事概要 | K32: 工事種別 | AI32: 施工数量
K34: =IF(法定外工事【正】両面印刷!K34=0, "", 法定外工事【正】両面印刷!K34) | AI34: =IF(法定外工事【正】両面印刷!AI34=0, "", 法定外工事【正】両面印刷!AI34)
K36: =IF(法定外工事【正】両面印刷!K36=0, "", 法定外工事【正】両面印刷!K36) | AI36: =IF(法定外工事【正】両面印刷!AI36=0, "", 法定外工事【正】両面印刷!AI36)
K38: =IF(法定外工事【正】両面印刷!K38=0, "", 法定外工事【正】両面印刷!K38) | AI38: =IF(法定外工事【正】両面印刷!AI38=0, "", 法定外工事【正】両面印刷!AI38)
K40: =IF(法定外工事【正】両面印刷!K40=0, "", 法定外工事【正】両面印刷!K40) | AI40: =IF(法定外工事【正】両面印刷!AI40=0, "", 法定外工事【正】両面印刷!AI40)
C42: 工事の期間 | J42: 令和 | M42: =IF(法定外工事【正】両面印刷!M42=0, "", 法定外工事【正】両面印刷!M42) | P42: 年 | R42: =IF(法定外工事【正】両面印刷!R42=0, "", 法定外工事【正】両面印刷!R42) | U42: 月 | W42: =IF(法定外工事【正】両面印刷!W42=0, "", 法定外工事【正】両面印刷!W42) | Z42: 日から | AI42: =IF(法定外工事【正】両面印刷!AI42=0, "", 法定外工事【正】両面印刷!AI42) | AM42: 日間
J44: 令和 | M44: =IF(法定外工事【正】両面印刷!M44=0, "", 法定外工事【正】両面印刷!M44) | P44: 年 | R44: =IF(法定外工事【正】両面印刷!R44=0, "", 法定外工事【正】両面印刷!R44) | U44: 月 | W44: =IF(法定外工事【正】両面印刷!W44=0, "", 法定外工事【正】両面印刷!W44) | Z44: 日まで
C46: 施工方法 | K46: 直営・請負
K48: 施工業者 住 所 | V48: =IF(法定外工事【正】両面印刷!V48=0, "", 法定外工事【正】両面印刷!V48)
K50: 業者名 | V50: =IF(法定外工事【正】両面印刷!V50=0, "", 法定外工事【正】両面印刷!V50)
K52: 担当者 | V52: =IF(法定外工事【正】両面印刷!V52=0, "", 法定外工事【正】両面印刷!V52)
K54: 連絡先 | V54: =IF(法定外工事【正】両面印刷!V54=0, "", 法定外工事【正】両面印刷!V54)
C59: 法定外公共物工事施工について
AS61: 監 第 | BC61: 号
AO63: 令和 | AU63: 年 | AY63: 月 | BC63: 日
C65: 申 請 者 殿
AO69: 道路管理者
AP71: 福井市長 西行 茂
C73: 別紙条件を付して、上記のとおり許可する。
B79: この法定外公共物工事施工許可について不服があるときは、行政不服審査法の定めるところにより、この許可書を受け取った日の翌日から起算して3ヶ月以内に福井市長に審査請求することができる。
C97: 一般条件
C101: 1 | F101: 申請内容及び以下に掲げる条件に違反し、許可を取り消された時は、法定外公共物を原形に回復すること。
C106: 2 | F106: 工事着手前に道路交通法第77条第1項の規定による所轄警察署長の許可を受けること。
C111: 3 | F111: 許可を受けた工事期間に着手できない特別の事情があるとき又は完成する見込がないときは、あらかじめ道路管理者に届け出て必要な指示を受けること。
C116: 4 | F116: 法定外公共物工事施工許可（指令書及び道路使用許可）書は道路管理者の指示に従い常時提示できるようにしておくこと。
C121: 5 | F121: 工事により道路構造物等を損傷したときは、速やかに道路管理者に届出、その指示を受けて、申請者の負担により完全に復旧すること。
C126: 6 | F126: 工事により第三者に損害を与えたときは、申請者の負担において損害を賠償する等の処置をすること。
C131: 7 | F131: 工事の実施にあたっては、危険防止のため必要な措置を講じ、一般交通に支障を与えないよう特に注意するとともに、路面を汚損しないこと。
C136: 8 | F136: 工事完成後官民境界杭を市職員の立会を受けて設置すること。
C141: 9 | F141: 工事施工にあたっては、工事材料等を施工区域外の歩車道に置かないようにするとともに、掘削土砂等は道路に堆積することなく、速やかに搬出すること。また、工事完了後、残土、残材料等があるときは、これを速やかに道路敷外に搬出し、付近を清浄にし、道路管理上及び交通上支障のないようにすること。
C149: 10 | F149: 工事が完了したときは、道路管理者に施工前・中・後の写真を添付した完了届を速やかに届出、検査を受け、新設した工作物等を市に引継ぎすること。
C154: 11 | F154: 検査の結果、手直し改造等を命じられたときは、これに従い申請者の負担で施工し、再検査を受けること。
C159: 12 | F159: 工事による発生品は道路管理者の指示により、指示する場所に搬入すること。
...
